BEGIN:VCALENDAR
VERSION:2.0
PRODID:https://www.kufer.de/kuferweb / DE
METHOD:PUBLISH
CALSCALE:GREGORIAN
X-WR-TIMEZONE:Europe/Berlin
BEGIN:VTIMEZONE
TZID:Europe/Berlin
X-LIC-LOCATION:Europe/Berlin
BEGIN:DAYLIGHT
TZOFFSETFROM:+0100
TZOFFSETTO:+0200
TZNAME:CEST
DTSTART:19700329T020000
RRULE:FREQ=YEARLY;INTERVAL=1;BYDAY=-1SU;BYMONTH=3
END:DAYLIGHT
BEGIN:STANDARD
TZOFFSETFROM:+0200
TZOFFSETTO:+0100
TZNAME:CET
DTSTART:19701025T030000
RRULE:FREQ=YEARLY;INTERVAL=1;BYDAY=-1SU;BYMONTH=10
END:STANDARD
END:VTIMEZONE
BEGIN:VEVENT
DTSTAMP:20260421T183747
DTSTART;TZID=Europe/Berlin:20260418T110000
DTEND;TZID=Europe/Berlin:20260418T120000
UID:E600012-20260418T110000@VHSSCHWEINFURT
SUMMARY:Warum können wir die Luft anhalten - aber nicht für immer? (E600012) 
LOCATION:1_vhs_Groß 012, Erdgeschoss, Schultesstr. 19 b, 97421 Schweinfurt
END:VEVENT
END:VCALENDAR