BEGIN:VCALENDAR
VERSION:2.0
PRODID:https://www.kufer.de/kuferweb / DE
METHOD:PUBLISH
CALSCALE:GREGORIAN
X-WR-TIMEZONE:Europe/Berlin
BEGIN:VTIMEZONE
TZID:Europe/Berlin
X-LIC-LOCATION:Europe/Berlin
BEGIN:DAYLIGHT
TZOFFSETFROM:+0100
TZOFFSETTO:+0200
TZNAME:CEST
DTSTART:19700329T020000
RRULE:FREQ=YEARLY;INTERVAL=1;BYDAY=-1SU;BYMONTH=3
END:DAYLIGHT
BEGIN:STANDARD
TZOFFSETFROM:+0200
TZOFFSETTO:+0100
TZNAME:CET
DTSTART:19701025T030000
RRULE:FREQ=YEARLY;INTERVAL=1;BYDAY=-1SU;BYMONTH=10
END:STANDARD
END:VTIMEZONE
BEGIN:VEVENT
DTSTAMP:20260421T183752
DTSTART;TZID=Europe/Berlin:20260313T171500
DTEND;TZID=Europe/Berlin:20260313T184500
UID:E21502-20260313T171500@VHSSCHWEINFURT
SUMMARY:Ausfall: Fit ins Fachabitur im Fach Mathematik an der FOS/BOS 12 NT (E21502) 
LOCATION:1_vhs_Klein 206, 2. Stock, Schultesstr. 19 b, 97421 Schweinfurt
END:VEVENT
BEGIN:VEVENT
DTSTAMP:20260421T183752
DTSTART;TZID=Europe/Berlin:20260320T171500
DTEND;TZID=Europe/Berlin:20260320T184500
UID:E21502-20260320T171500@VHSSCHWEINFURT
SUMMARY:Ausfall: Fit ins Fachabitur im Fach Mathematik an der FOS/BOS 12 NT (E21502) 
LOCATION:1_vhs_Klein 206, 2. Stock, Schultesstr. 19 b, 97421 Schweinfurt
END:VEVENT
BEGIN:VEVENT
DTSTAMP:20260421T183752
DTSTART;TZID=Europe/Berlin:20260327T171500
DTEND;TZID=Europe/Berlin:20260327T184500
UID:E21502-20260327T171500@VHSSCHWEINFURT
SUMMARY:Ausfall: Fit ins Fachabitur im Fach Mathematik an der FOS/BOS 12 NT (E21502) 
LOCATION:1_vhs_Klein 206, 2. Stock, Schultesstr. 19 b, 97421 Schweinfurt
END:VEVENT
BEGIN:VEVENT
DTSTAMP:20260421T183752
DTSTART;TZID=Europe/Berlin:20260417T171500
DTEND;TZID=Europe/Berlin:20260417T184500
UID:E21502-20260417T171500@VHSSCHWEINFURT
SUMMARY:Ausfall: Fit ins Fachabitur im Fach Mathematik an der FOS/BOS 12 NT (E21502) 
LOCATION:1_vhs_Klein 206, 2. Stock, Schultesstr. 19 b, 97421 Schweinfurt
END:VEVENT
BEGIN:VEVENT
DTSTAMP:20260421T183752
DTSTART;TZID=Europe/Berlin:20260424T171500
DTEND;TZID=Europe/Berlin:20260424T184500
UID:E21502-20260424T171500@VHSSCHWEINFURT
SUMMARY:Ausfall: Fit ins Fachabitur im Fach Mathematik an der FOS/BOS 12 NT (E21502) 
LOCATION:1_vhs_Klein 206, 2. Stock, Schultesstr. 19 b, 97421 Schweinfurt
END:VEVENT
BEGIN:VEVENT
DTSTAMP:20260421T183752
DTSTART;TZID=Europe/Berlin:20260430T171500
DTEND;TZID=Europe/Berlin:20260430T184500
UID:E21502-20260430T171500@VHSSCHWEINFURT
SUMMARY:Ausfall: Fit ins Fachabitur im Fach Mathematik an der FOS/BOS 12 NT (E21502) 
LOCATION:1_vhs_Klein 201, 2. Stock, Schultesstr. 19 b, 97421 Schweinfurt
END:VEVENT
BEGIN:VEVENT
DTSTAMP:20260421T183752
DTSTART;TZID=Europe/Berlin:20260508T171500
DTEND;TZID=Europe/Berlin:20260508T184500
UID:E21502-20260508T171500@VHSSCHWEINFURT
SUMMARY:Ausfall: Fit ins Fachabitur im Fach Mathematik an der FOS/BOS 12 NT (E21502) 
LOCATION:1_vhs_Klein 206, 2. Stock, Schultesstr. 19 b, 97421 Schweinfurt
END:VEVENT
BEGIN:VEVENT
DTSTAMP:20260421T183752
DTSTART;TZID=Europe/Berlin:20260515T171500
DTEND;TZID=Europe/Berlin:20260515T184500
UID:E21502-20260515T171500@VHSSCHWEINFURT
SUMMARY:Ausfall: Fit ins Fachabitur im Fach Mathematik an der FOS/BOS 12 NT (E21502) 
LOCATION:1_vhs_Klein 206, 2. Stock, Schultesstr. 19 b, 97421 Schweinfurt
END:VEVENT
END:VCALENDAR